BEGIN:VCALENDAR
PRODID:-//AT Content Types//AT Event//EN
VERSION:1.0
BEGIN:VEVENT
DTSTART:20190927T080000Z
DTEND:20190927T160000Z
DCREATED:20190923T132849Z
UID:ATEvent-7d868075fdef48cf9aed982a55134aa4
SEQUENCE:0
LAST-MODIFIED:20190924T125616Z
SUMMARY:Italia - Evento 27 settembre 2019 per il clima
LOCATION:Vedi Mappa eventi
PRIORITY:3
TRANSP:0
END:VEVENT
END:VCALENDAR
