BEGIN:VCALENDAR
PRODID:-//AT Content Types//AT Event//EN
VERSION:2.0
METHOD:PUBLISH
BEGIN:VEVENT
DTSTAMP:20260419T165457Z
CREATED:20210428T170443Z
UID:ATEvent-a1b5cb2ee647458190ade3223bc86ab3
LAST-MODIFIED:20210430T130420Z
SUMMARY:Incontro in modalità a distanza : ART.11 l'ITALIA RIPUDIA LA GUERRA
DTSTART:20210505T153000Z
DTEND:20210505T173000Z
LOCATION:piattaforma GoToMeeting
CLASS:PUBLIC
END:VEVENT
END:VCALENDAR
