BEGIN:VCALENDAR
PRODID:-//AT Content Types//AT Event//EN
VERSION:2.0
METHOD:PUBLISH
BEGIN:VEVENT
DTSTAMP:20260419T164932Z
CREATED:20210601T165213Z
UID:ATEvent-6d95f6b49ef14b96aa76510abbb2b2e9
LAST-MODIFIED:20210601T165931Z
SUMMARY:LA REPUBBLICA\, UNA E INDIVISIBILE NON DIFFERENZIABILE - 2 giugno evento su ZOOM
DTSTART:20210602T160000Z
DTEND:20210602T173000Z
LOCATION:incontro online
CLASS:PUBLIC
END:VEVENT
END:VCALENDAR
