BEGIN:VCALENDAR
PRODID:-//AT Content Types//AT Event//EN
VERSION:2.0
METHOD:PUBLISH
BEGIN:VEVENT
DTSTAMP:20260419T164910Z
CREATED:20210527T200323Z
UID:ATEvent-f8af6a8e7f8c4548ad0f2183985ac827
LAST-MODIFIED:20210527T200400Z
SUMMARY:L'altro 2 giugno - Diretta streaming da Bologna
DTSTART:20210601T160000Z
DTEND:20210601T173000Z
LOCATION:Diretta streaming da Bologna
CLASS:PUBLIC
END:VEVENT
END:VCALENDAR
