BEGIN:VCALENDAR
PRODID:-//AT Content Types//AT Event//EN
VERSION:2.0
METHOD:PUBLISH
BEGIN:VEVENT
DTSTAMP:20260419T133521Z
CREATED:20220406T204842Z
UID:ATEvent-53688298e2d248c0a51fc51a779b3418
LAST-MODIFIED:20220406T210403Z
SUMMARY:Marcia straordinaria PerugiaAssisi domenica 24 aprile 2022
DTSTART:20220424T070000Z
DTEND:20220424T130000Z
LOCATION:Partenza da i Giardini del Frontone - Perugia
URL:https://www.perugiassisi.org/
CLASS:PUBLIC
END:VEVENT
END:VCALENDAR
