BEGIN:VCALENDAR
PRODID:-//AT Content Types//AT Event//EN
VERSION:1.0
BEGIN:VEVENT
DTSTART:20220509T083000Z
DTEND:20220509T100000Z
DCREATED:20220506T160920Z
UID:ATEvent-af3d593d79cf4506b685e8fbd99fa1e7
SEQUENCE:0
LAST-MODIFIED:20220506T160932Z
SUMMARY:Maurizio Viroli a Ravenna - La cittadinanza è invitata
LOCATION:Sala Spadolini della biblioteca A. Oriani  - via Corrado Ricci n. 26 -Ravenna
PRIORITY:3
TRANSP:0
END:VEVENT
END:VCALENDAR
