BEGIN:VCALENDAR
PRODID:-//AT Content Types//AT Event//EN
VERSION:2.0
METHOD:PUBLISH
BEGIN:VEVENT
DTSTAMP:20260419T165524Z
CREATED:20230329T152426Z
UID:ATEvent-6e6c39719b5749cda92c0bef0968d1cd
LAST-MODIFIED:20230329T153013Z
SUMMARY:Milano - 1° aprile 2023 - Manifestazione per la tutela del Servizio Sanitario Nazionale
DTSTART:20230401T130000Z
DTEND:20230401T160000Z
LOCATION:Piazza Duomo - Milano
CLASS:PUBLIC
END:VEVENT
END:VCALENDAR
