BEGIN:VCALENDAR
PRODID:-//AT Content Types//AT Event//EN
VERSION:1.0
BEGIN:VEVENT
DTSTART:20241024T160000Z
DTEND:20241024T173000Z
DCREATED:20241018T195753Z
UID:ATEvent-3e9b73223de7465daec12079488fc532
SEQUENCE:0
LAST-MODIFIED:20241018T200247Z
SUMMARY:Milano - Confronto su Premierato\, Autonomia Differenziata\, Sicurezza
LOCATION:Salone "Salvadanée" del Centro Studi Circolo Caldara via De Amicis 17 - Milano
PRIORITY:3
TRANSP:0
END:VEVENT
END:VCALENDAR
