BEGIN:VCALENDAR
PRODID:-//AT Content Types//AT Event//EN
VERSION:2.0
METHOD:PUBLISH
BEGIN:VEVENT
DTSTAMP:20260419T133423Z
CREATED:20230929T082946Z
UID:ATEvent-01aac73535fe45f38f2277a6a81569f3
LAST-MODIFIED:20230929T082955Z
SUMMARY:Milano - Congresso Mondiale per la Giustizia Climatica - Milano 12-15 ottobre
DTSTART:20231012T080000Z
DTEND:20231015T150000Z
LOCATION:Milano - Vedi https://www.wccj.online/
CLASS:PUBLIC
END:VEVENT
END:VCALENDAR
