BEGIN:VCALENDAR
PRODID:-//AT Content Types//AT Event//EN
VERSION:2.0
METHOD:PUBLISH
BEGIN:VEVENT
DTSTAMP:20260419T165458Z
CREATED:20201021T203219Z
UID:ATEvent-c038e0bf8e0e4bef949996be552f76bf
LAST-MODIFIED:20201021T203243Z
SUMMARY:Milano - Cordone sanitario "LA SALUTE NON E’ UNA MERCE\, LA SANITA’ NON E’ UNA AZIENDA"
DTSTART:20201107T093000Z
DTEND:20201107T110000Z
LOCATION:Piazza Città di Lombardia - Milano
CLASS:PUBLIC
END:VEVENT
END:VCALENDAR
