BEGIN:VCALENDAR
PRODID:-//AT Content Types//AT Event//EN
VERSION:1.0
BEGIN:VEVENT
DTSTART:20220528T090000Z
DTEND:20220528T103000Z
DCREATED:20220525T202019Z
UID:ATEvent-e0a537405982447cb72cd31272e3f556
SEQUENCE:0
LAST-MODIFIED:20220525T202139Z
SUMMARY:Milano - difesa dei beni comuni e per la qualità dell’ambiente
LOCATION:Piazza Scala -Milano
PRIORITY:3
TRANSP:0
END:VEVENT
END:VCALENDAR
