BEGIN:VCALENDAR
PRODID:-//AT Content Types//AT Event//EN
VERSION:1.0
BEGIN:VEVENT
DTSTART:20210912T080000Z
DTEND:20210912T110000Z
DCREATED:20210906T080141Z
UID:ATEvent-8ee07cf264b8465c82b7cca994310bde
SEQUENCE:0
LAST-MODIFIED:20210906T080614Z
SUMMARY:Milano Dom. 12/9 ore 10.00 - Assemblea pubblica Climate Open Platform "Verso le mobilitazioni e l'EcoSocial Forum per PreCOP e Youth4climate"
LOCATION:Università Statale di Milano (Via Festa del Perdono\, Aula 208)
PRIORITY:3
TRANSP:0
END:VEVENT
END:VCALENDAR
