BEGIN:VCALENDAR
PRODID:-//AT Content Types//AT Event//EN
VERSION:1.0
BEGIN:VEVENT
DTSTART:20240622T153000Z
DTEND:20240622T173000Z
DCREATED:20240609T095818Z
UID:ATEvent-15436209500c4a1fb2fb88cd3bbab0f3
SEQUENCE:0
LAST-MODIFIED:20240609T095822Z
SUMMARY:Milano - I Partigiani della pace e la strenua lotta contro il nucleare
LOCATION:Sezione Poletti e Caduti di Trenno via Falck 51 - Milano
PRIORITY:3
TRANSP:0
END:VEVENT
END:VCALENDAR
