BEGIN:VCALENDAR
PRODID:-//AT Content Types//AT Event//EN
VERSION:1.0
BEGIN:VEVENT
DTSTART:20231217T140000Z
DTEND:20231217T180000Z
DCREATED:20231130T205720Z
UID:ATEvent-4e7e639a5bfa412884cbd92923032266
SEQUENCE:0
LAST-MODIFIED:20231130T205726Z
SUMMARY:Milano - Presentazione libri ANPI 80esimo Anniversario della Resistenza
LOCATION:COOPERATIVA "ANTONIO LABRIOLA" MILANO  via Enrico Falck\, 51 - Metropolitana 1 San Leonardo
PRIORITY:3
TRANSP:0
END:VEVENT
END:VCALENDAR
