BEGIN:VCALENDAR
PRODID:-//AT Content Types//AT Event//EN
VERSION:2.0
METHOD:PUBLISH
BEGIN:VEVENT
DTSTAMP:20260419T133135Z
CREATED:20250211T214455Z
UID:ATEvent-e4eddeed71834bbf8b7306d7af4dc24c
LAST-MODIFIED:20250211T214511Z
SUMMARY:Milano - Sempre per costruire e creare e promuovere la pace
DTSTART:20250222T163000Z
DTEND:20250222T180000Z
LOCATION:ACLI LAMBRATE - via Conte Rosso\, 5 - MILANO
CONTACT:Vincenzo Casati\, 3382200447\, acli.lambrate@libero.it
CLASS:PUBLIC
END:VEVENT
END:VCALENDAR
