BEGIN:VCALENDAR
PRODID:-//AT Content Types//AT Event//EN
VERSION:1.0
BEGIN:VEVENT
DTSTART:20230317T103000Z
DTEND:20230317T120000Z
DCREATED:20230308T180708Z
UID:ATEvent-2bb6665690d84952a3071c835bd8e532
SEQUENCE:0
LAST-MODIFIED:20230309T090825Z
SUMMARY:Napoli 17 marzo - Solidarietà nazionale contro l'autonomia differenziata
LOCATION:Piazza Santa Maria La Nova - Napoli
PRIORITY:3
TRANSP:0
END:VEVENT
END:VCALENDAR
