BEGIN:VCALENDAR
PRODID:-//AT Content Types//AT Event//EN
VERSION:1.0
BEGIN:VEVENT
DTSTART:20211120T103000Z
DTEND:20211120T163000Z
DCREATED:20211117T210246Z
UID:ATEvent-846739dff596485696995f20979c17bd
SEQUENCE:0
LAST-MODIFIED:20211117T210253Z
SUMMARY:Napoli - 20 Novembre 2021 Manifestazione nazionale "Carovana dell'Acqua - Per un PNRR dei diritti\, a difesa dell'acqua e dei beni comuni"
LOCATION:Piazza del Gesù Nuovo - Napoli
PRIORITY:3
TRANSP:0
END:VEVENT
END:VCALENDAR
