BEGIN:VCALENDAR
PRODID:-//AT Content Types//AT Event//EN
VERSION:1.0
BEGIN:VEVENT
DTSTART:20240316T133000Z
DTEND:20240316T170000Z
DCREATED:20240305T211423Z
UID:ATEvent-ddc93125bf5546b39b4f0e4e07d4ce82
SEQUENCE:0
LAST-MODIFIED:20240305T211659Z
SUMMARY:Napoli - Insieme contro la regionalizzazione
LOCATION:Piazza Garibaldi - Napoli
PRIORITY:3
TRANSP:0
END:VEVENT
END:VCALENDAR
