BEGIN:VCALENDAR
PRODID:-//AT Content Types//AT Event//EN
VERSION:1.0
BEGIN:VEVENT
DTSTART:20190920T150000Z
DTEND:20190920T170000Z
DCREATED:20190911T132139Z
UID:ATEvent-32c12f7206084b8f803a469832f5248f
SEQUENCE:0
LAST-MODIFIED:20190913T141706Z
SUMMARY:Napoli - Assemblea contro l'autonomia differenziata
LOCATION:La "città del sole" vico Maffei 4 (zona San Gregorio Ameno) - Napoli
PRIORITY:3
TRANSP:0
END:VEVENT
END:VCALENDAR
