BEGIN:VCALENDAR
PRODID:-//AT Content Types//AT Event//EN
VERSION:1.0
BEGIN:VEVENT
DTSTART:20240525T113000Z
DTEND:20240525T170000Z
DCREATED:20240511T184409Z
UID:ATEvent-824b2ba14ddc44179a9f49aad43a7d16
SEQUENCE:0
LAST-MODIFIED:20240511T184947Z
SUMMARY:Napoli - Manifestazione nazionale La Via Maestra
LOCATION:Piazza Mancini (stazione) Napolo
PRIORITY:3
TRANSP:0
END:VEVENT
END:VCALENDAR
