BEGIN:VCALENDAR
PRODID:-//AT Content Types//AT Event//EN
VERSION:2.0
METHOD:PUBLISH
BEGIN:VEVENT
DTSTAMP:20260419T164839Z
CREATED:20250323T100202Z
UID:ATEvent-55baeaf195c44901a0280c506ec72314
LAST-MODIFIED:20250323T100507Z
SUMMARY:Nova Milanese MB - Presentazione del libro "I partigiani della pace"
DTSTART:20250330T133000Z
DTEND:20250330T160000Z
LOCATION:“Cascina Triestina” - Via Pietro Nenni\, 3\, 20834 Nova Milanese MB
CLASS:PUBLIC
END:VEVENT
END:VCALENDAR
