BEGIN:VCALENDAR
PRODID:-//AT Content Types//AT Event//EN
VERSION:1.0
BEGIN:VEVENT
DTSTART:20240414T150000Z
DTEND:20240414T173000Z
DCREATED:20240406T195933Z
UID:ATEvent-106fa0cdf5ff4392a209b8e87dc73527
SEQUENCE:0
LAST-MODIFIED:20240406T195936Z
SUMMARY:Palazzolo - I Partigiani della Pace per il ripudio di tutte le guerre
LOCATION:Circolo Arci Amicizia e Solidarietà via Coti Zelati 51 Palazzolo
PRIORITY:3
TRANSP:0
END:VEVENT
END:VCALENDAR
