BEGIN:VCALENDAR
PRODID:-//AT Content Types//AT Event//EN
VERSION:2.0
METHOD:PUBLISH
BEGIN:VEVENT
DTSTAMP:20260419T165210Z
CREATED:20191202T152140Z
UID:ATEvent-b2f35e13262f469db9a20a1492f99564
LAST-MODIFIED:20191202T152526Z
SUMMARY:Parma - Assemblea dibattito "NO alla regionalizzazione della scuola. No all'autonomia differenziata"
DTSTART:20191206T200000Z
DTEND:20191206T220000Z
LOCATION:Sala Civica  via Bizzozero n.19 - Parma
CLASS:PUBLIC
END:VEVENT
END:VCALENDAR
