BEGIN:VCALENDAR
PRODID:-//AT Content Types//AT Event//EN
VERSION:1.0
BEGIN:VEVENT
DTSTART:20191118T173000Z
DTEND:20191118T190000Z
DCREATED:20191113T214115Z
UID:ATEvent-e91855eb03e446378ab801b17cba2fb9
SEQUENCE:0
LAST-MODIFIED:20191113T214125Z
SUMMARY:Parma - Esistere e resistere nella valle del Giordano in Palestina
LOCATION:Auditorium Fondazione Matteo Bagnaresi Via G. Saragat 33 - Parma
PRIORITY:3
TRANSP:0
END:VEVENT
END:VCALENDAR
