BEGIN:VCALENDAR
PRODID:-//AT Content Types//AT Event//EN
VERSION:2.0
METHOD:PUBLISH
BEGIN:VEVENT
DTSTAMP:20260419T165013Z
CREATED:20200902T212115Z
UID:ATEvent-0dce3db917a74adf8c2dd9329a2a0062
LAST-MODIFIED:20200902T212129Z
SUMMARY:Parma - Incontro pubblico "Referendum le ragioni del NO"
DTSTART:20200910T190000Z
DTEND:20200910T210000Z
LOCATION:Parco Bizzozero - Parma
CONTACT:3398097735\, mariaricciardig@tiscali.it
CLASS:PUBLIC
END:VEVENT
END:VCALENDAR
