BEGIN:VCALENDAR
PRODID:-//AT Content Types//AT Event//EN
VERSION:2.0
METHOD:PUBLISH
BEGIN:VEVENT
DTSTAMP:20260419T165210Z
CREATED:20190607T205121Z
UID:ATEvent-436a7a0365ef444d8014124a3cb687e8
LAST-MODIFIED:20190607T205710Z
SUMMARY:Parma - Invito all'assemblea pubblica:  Il SISTEMA - le catene del debito ingiusto e illegittimo
DTSTART:20190620T184500Z
DTEND:20190620T203000Z
LOCATION:Sala Civica Bizzozero\, Via Bizzozero 13 Parma
CLASS:PUBLIC
END:VEVENT
END:VCALENDAR
