BEGIN:VCALENDAR
PRODID:-//AT Content Types//AT Event//EN
VERSION:1.0
BEGIN:VEVENT
DTSTART:20191125T180000Z
DTEND:20191125T190000Z
DCREATED:20191124T102815Z
UID:ATEvent-8579d468dadc4650990f9a3915d06054
SEQUENCE:0
LAST-MODIFIED:20191124T102833Z
SUMMARY:Parma - Lunedì tuffiamoci in mezzo alle sardine
LOCATION:Piazza Duomo - Parma
PRIORITY:3
TRANSP:0
END:VEVENT
END:VCALENDAR
