BEGIN:VCALENDAR
PRODID:-//AT Content Types//AT Event//EN
VERSION:1.0
BEGIN:VEVENT
DTSTART:20250906T080000Z
DTEND:20250906T093000Z
DCREATED:20250902T130308Z
UID:ATEvent-978c8de266c74138aa23f4f3717ce11b
SEQUENCE:0
LAST-MODIFIED:20250902T130311Z
SUMMARY:Parma - Presidio per Gaza
LOCATION:Piazza Garibaldi Parma
PRIORITY:3
TRANSP:0
END:VEVENT
END:VCALENDAR
