BEGIN:VCALENDAR
PRODID:-//AT Content Types//AT Event//EN
VERSION:1.0
BEGIN:VEVENT
DTSTART:20250301T160000Z
DTEND:20250301T173000Z
DCREATED:20250225T211730Z
UID:ATEvent-26dc895084d7450f84169ac46c515a4d
SEQUENCE:0
LAST-MODIFIED:20250225T211746Z
SUMMARY:Parma scende in piazza per l'antifascismo
LOCATION:Piazzale della Pace - Parma
PRIORITY:3
TRANSP:0
END:VEVENT
END:VCALENDAR
