BEGIN:VCALENDAR
PRODID:-//AT Content Types//AT Event//EN
VERSION:2.0
METHOD:PUBLISH
BEGIN:VEVENT
DTSTAMP:20260419T165302Z
CREATED:20190307T183247Z
UID:ATEvent-0ae921d844b441a0abf002f664680de0
LAST-MODIFIED:20190307T184541Z
SUMMARY:Parma - Venerdì 15 marzo "sciopero mondiale per il futuro"
DTSTART:20190315T083000Z
DTEND:20190315T123000Z
DESCRIPTION:Sciopero mondiale per il futuro
LOCATION:Parma Piazzale Picelli
URL:https://www.facebook.com/events/2179576045629228/permalink/2181748525411980/
CLASS:PUBLIC
END:VEVENT
END:VCALENDAR
