BEGIN:VCALENDAR
PRODID:-//AT Content Types//AT Event//EN
VERSION:2.0
METHOD:PUBLISH
BEGIN:VEVENT
DTSTAMP:20260419T133319Z
CREATED:20200529T195316Z
UID:ATEvent-fc1a5f854e9e4a87b12f5df6e84d8251
LAST-MODIFIED:20200529T195353Z
SUMMARY:PERUGIA ASSISI: 2 giugno 2020 Incontro on-line dei costruttori di pace
DTSTART:20200602T150000Z
DTEND:20200602T170000Z
LOCATION:Incontriamoci online su Zoom e Facebook
CLASS:PUBLIC
END:VEVENT
END:VCALENDAR
