BEGIN:VCALENDAR
PRODID:-//AT Content Types//AT Event//EN
VERSION:1.0
BEGIN:VEVENT
DTSTART:20220602T090000Z
DTEND:20220602T153000Z
DCREATED:20220523T075258Z
UID:ATEvent-5c8290940c9047aab7fead2765182d57
SEQUENCE:0
LAST-MODIFIED:20220529T192554Z
SUMMARY:Pisa - 2 giugno: manifestazione nazionale NoBase a Coltano
DESCRIPTION:Informazioni logistiche e contatti
LOCATION:Villa Medicea di Coltano - Pisa
PRIORITY:3
TRANSP:0
END:VEVENT
END:VCALENDAR
