BEGIN:VCALENDAR
PRODID:-//AT Content Types//AT Event//EN
VERSION:1.0
BEGIN:VEVENT
DTSTART:20241026T130000Z
DTEND:20241026T160000Z
DCREATED:20241013T075737Z
UID:ATEvent-4fd0daf2322f44b5821e380e3752fbf4
SEQUENCE:0
LAST-MODIFIED:20241013T075825Z
SUMMARY:Prima che sia troppo tardi: fuori l'Italia dalla guerra. Corteo a Milano
LOCATION:RITROVO DA STAZIONE CENTRALE\, CONCLUSIONE PIAZZA SAN BABILA A MILANO
PRIORITY:3
TRANSP:0
END:VEVENT
END:VCALENDAR
