BEGIN:VCALENDAR
PRODID:-//AT Content Types//AT Event//EN
VERSION:2.0
METHOD:PUBLISH
BEGIN:VEVENT
DTSTAMP:20260419T165013Z
CREATED:20210901T132504Z
UID:ATEvent-1bae80c11c1c435f8551dbd25daa6231
LAST-MODIFIED:20210901T132624Z
SUMMARY:Quarrata (Pistoia) - 28a Marcia per la Giustizia
DTSTART:20210904T183000Z
DTEND:20210904T203000Z
DESCRIPTION:Grido della Terra\, Grido dei Poveri
LOCATION:Piazza Risorgimento a Quarrata (Pistoia)
CLASS:PUBLIC
END:VEVENT
END:VCALENDAR
