BEGIN:VCALENDAR
PRODID:-//AT Content Types//AT Event//EN
VERSION:1.0
BEGIN:VEVENT
DTSTART:20211218T160000Z
DTEND:20211218T173000Z
DCREATED:20211215T215035Z
UID:ATEvent-955c3c5197aa449c99b2539b38c2683f
SEQUENCE:0
LAST-MODIFIED:20211215T215054Z
SUMMARY:Ravenna – Presentazione del libro di M. Viroli “Tempi profetici – Visioni di emancipazione politica nella storia d’Italia”
LOCATION:Casa Matha  - Piazza Andrea Costa 3  - Ravenna
PRIORITY:3
TRANSP:0
END:VEVENT
END:VCALENDAR
