BEGIN:VCALENDAR
PRODID:-//AT Content Types//AT Event//EN
VERSION:2.0
METHOD:PUBLISH
BEGIN:VEVENT
DTSTAMP:20260419T164840Z
CREATED:20241120T205816Z
UID:ATEvent-85e6e7e60dec436bb3d4e2c9c9ba1f3b
LAST-MODIFIED:20241120T205826Z
SUMMARY:Ravenna - Presentazione libro Pancho Pardi
DTSTART:20241126T163000Z
DTEND:20241126T180000Z
LOCATION:Libreria Feltrinelli Via Diaz\, 14\, RAVENNA
CLASS:PUBLIC
END:VEVENT
END:VCALENDAR
