BEGIN:VCALENDAR
PRODID:-//AT Content Types//AT Event//EN
VERSION:1.0
BEGIN:VEVENT
DTSTART:20210925T120000Z
DTEND:20210925T153000Z
DCREATED:20210916T083349Z
UID:ATEvent-7f77abe31022400f9c65a380ef982391
SEQUENCE:0
LAST-MODIFIED:20210916T084022Z
SUMMARY:Roma 25 settembre "La voce delle donne per prendersi cura del mondo"
LOCATION:Piazza del Popolo - Roma
PRIORITY:3
TRANSP:0
END:VEVENT
END:VCALENDAR
