BEGIN:VCALENDAR
PRODID:-//AT Content Types//AT Event//EN
VERSION:2.0
METHOD:PUBLISH
BEGIN:VEVENT
DTSTAMP:20260419T164840Z
CREATED:20230612T200944Z
UID:ATEvent-109a0e19f09e400f900c16cef89e1351
LAST-MODIFIED:20230620T200911Z
SUMMARY:Roma - 30 giugno convegno "Guerra o Pace ?"
DTSTART:20230630T073000Z
DTEND:20230630T113000Z
LOCATION:Sala Capitolare del Chiostro di Santa Maria sopra Minerva -Senato della Repubblica - P.za della Minerva\, 38 ROMA
CLASS:PUBLIC
END:VEVENT
END:VCALENDAR
