BEGIN:VCALENDAR
PRODID:-//AT Content Types//AT Event//EN
VERSION:2.0
METHOD:PUBLISH
BEGIN:VEVENT
DTSTAMP:20260419T165329Z
CREATED:20220120T170958Z
UID:ATEvent-24d225e9f6ac49dabf45f451148c17f1
LAST-MODIFIED:20220120T171455Z
SUMMARY:Roma - 6000 Sardine e Popolo Viola contro la candidatura di Berlusconi
DTSTART:20220123T130000Z
DTEND:20220123T160000Z
LOCATION:Piazza Esquilino - Roma
CLASS:PUBLIC
END:VEVENT
END:VCALENDAR
