BEGIN:VCALENDAR
PRODID:-//AT Content Types//AT Event//EN
VERSION:1.0
BEGIN:VEVENT
DTSTART:20230214T150000Z
DTEND:20230214T173000Z
DCREATED:20230211T155552Z
UID:ATEvent-2e4a857345014053bf6cbad6bb09a537
SEQUENCE:0
LAST-MODIFIED:20230211T155845Z
SUMMARY:Roma - ALFREDO COSPITO - VIVERE O MORIRE IN CARCERE
LOCATION:Sala stampa Camera dei deputati - Via della Missione\, 4 - ROMA
PRIORITY:3
TRANSP:0
END:VEVENT
END:VCALENDAR
