BEGIN:VCALENDAR
PRODID:-//AT Content Types//AT Event//EN
VERSION:2.0
METHOD:PUBLISH
BEGIN:VEVENT
DTSTAMP:20260419T165328Z
CREATED:20210608T162100Z
UID:ATEvent-646d8ee0f9ef4eb98c99707e4de0ccf4
LAST-MODIFIED:20210608T162126Z
SUMMARY:Roma - Appello manifestazione nazionale a Roma 12/6 e iniziative decennale referendum
DTSTART:20210612T133000Z
DTEND:20210612T163000Z
LOCATION:Piazza dell'Esquilino - Roma
CLASS:PUBLIC
END:VEVENT
END:VCALENDAR
