BEGIN:VCALENDAR
PRODID:-//AT Content Types//AT Event//EN
VERSION:2.0
METHOD:PUBLISH
BEGIN:VEVENT
DTSTAMP:20260419T165446Z
CREATED:20221110T212934Z
UID:ATEvent-226548966633457095ab4e7e22f83821
LAST-MODIFIED:20221121T163101Z
SUMMARY:Roma Convegno - Le derive culturali\, politiche\, sociali\, ecologiche e istituzionali della guerra
DTSTART:20221125T150000Z
DTEND:20221125T180000Z
LOCATION:Università di Roma “La Sapienza” – Facoltà di Giurisprudenza – Aula Calasso
CLASS:PUBLIC
END:VEVENT
END:VCALENDAR
