BEGIN:VCALENDAR
PRODID:-//AT Content Types//AT Event//EN
VERSION:1.0
BEGIN:VEVENT
DTSTART:20241213T110000Z
DTEND:20241213T130000Z
DCREATED:20241208T165732Z
UID:ATEvent-0b27650d6b8b4c689447cf39004c57b4
SEQUENCE:0
LAST-MODIFIED:20241208T165748Z
SUMMARY:Roma - Convegno: Università "La Sapienza". Educare alla pace in un tempo di guerra
LOCATION:Facoltà di Lettere e Filosofia dell'Università "La Sapienza" .-.- I Sessione: 13 Dicembre ore 12-14 - Aula 105 Edificio Marco Polo .- Roma
PRIORITY:3
TRANSP:0
END:VEVENT
END:VCALENDAR
