BEGIN:VCALENDAR
PRODID:-//AT Content Types//AT Event//EN
VERSION:2.0
METHOD:PUBLISH
BEGIN:VEVENT
DTSTAMP:20260419T133039Z
CREATED:20220602T081345Z
UID:ATEvent-df455199bab54af5bed1ad26002e0d5d
LAST-MODIFIED:20220602T081401Z
SUMMARY:Roma - Forum per il diritto alla salute
DTSTART:20220611T070000Z
DTEND:20220611T140000Z
LOCATION:Città dell'Altra Economia Sala conferenze Largo Dino Frisullo - Testaccio\, Roma
CLASS:PUBLIC
END:VEVENT
END:VCALENDAR
