BEGIN:VCALENDAR
PRODID:-//AT Content Types//AT Event//EN
VERSION:2.0
METHOD:PUBLISH
BEGIN:VEVENT
DTSTAMP:20260419T165458Z
CREATED:20211228T172906Z
UID:ATEvent-122691d2a45142fc93184a580aafbc68
LAST-MODIFIED:20220103T160821Z
SUMMARY:Roma - Il 4 gennaio Il Popolo Viola sarà in piazza Santi Apostoli  per dire no a Berlusconi al Quirinale
DTSTART:20220104T160000Z
DTEND:20220104T173000Z
LOCATION:Piazza Santi Apostoli - Roma
CLASS:PUBLIC
END:VEVENT
END:VCALENDAR
