BEGIN:VCALENDAR
PRODID:-//AT Content Types//AT Event//EN
VERSION:2.0
METHOD:PUBLISH
BEGIN:VEVENT
DTSTAMP:20260419T165322Z
CREATED:20190910T201702Z
UID:ATEvent-79453c742fe84cf39284b84fcc489b7d
LAST-MODIFIED:20190911T075019Z
SUMMARY:Roma - Incontro "Persone migranti: diritti e politiche Per il recupero della civiltà europea"
DTSTART:20190916T123000Z
DTEND:20190916T170000Z
LOCATION:Federazione Nazionale Stampa Italiana - Sala Walter Tobagi Roma\, C.so Vittorio Emanuele II\, 349
CLASS:PUBLIC
END:VEVENT
END:VCALENDAR
