BEGIN:VCALENDAR
PRODID:-//AT Content Types//AT Event//EN
VERSION:2.0
METHOD:PUBLISH
BEGIN:VEVENT
DTSTAMP:20260419T164732Z
CREATED:20210710T133012Z
UID:ATEvent-4b5fc099772745b6bc7a9cf8d624557b
LAST-MODIFIED:20210710T133336Z
SUMMARY:ROMA - Libia: una benda per non vedere?
DTSTART:20210714T150000Z
DTEND:20210714T170000Z
CLASS:PUBLIC
END:VEVENT
END:VCALENDAR
