BEGIN:VCALENDAR
PRODID:-//AT Content Types//AT Event//EN
VERSION:2.0
METHOD:PUBLISH
BEGIN:VEVENT
DTSTAMP:20260419T165026Z
CREATED:20240303T163732Z
UID:ATEvent-878c6f5d72404b5b949ebf0bfdfc493a
LAST-MODIFIED:20240303T164017Z
SUMMARY:Roma - Manifestazione nazionale per la pace il 9 marzo
DTSTART:20240309T114500Z
DTEND:20240309T163000Z
LOCATION:Inizio corteo in Piazza della Repubblica - Roma
CLASS:PUBLIC
END:VEVENT
END:VCALENDAR
