BEGIN:VCALENDAR
PRODID:-//AT Content Types//AT Event//EN
VERSION:1.0
BEGIN:VEVENT
DTSTART:20200704T083000Z
DTEND:20200704T103000Z
DCREATED:20200627T202041Z
UID:ATEvent-809e0365d2874269a20096dadd4bc2c4
SEQUENCE:0
LAST-MODIFIED:20200627T202116Z
SUMMARY:ROMA: MANIFESTAZIONE SABATO 4 LUGLIO 2020 A LUNGOTEVERE A RIPA
LOCATION:Lungotevere a Ripa - Roma
PRIORITY:3
TRANSP:0
END:VEVENT
END:VCALENDAR
