BEGIN:VCALENDAR
PRODID:-//AT Content Types//AT Event//EN
VERSION:1.0
BEGIN:VEVENT
DTSTART:20260318T160000Z
DTEND:20260318T180000Z
DCREATED:20260311T214257Z
UID:ATEvent-64412e1c2b4e4564b249d0d997f4c5e4
SEQUENCE:0
LAST-MODIFIED:20260311T214304Z
SUMMARY:ROMA - Mercoledì 18 Marzo Evento di chiusura campagna per il NO
LOCATION:Piazza del Popolo - Roma
PRIORITY:3
TRANSP:0
END:VEVENT
END:VCALENDAR
